BEGIN:VCALENDAR
VERSION:2.0
PRODID:-//Straub Brewery - ECPv6.15.17//NONSGML v1.0//EN
CALSCALE:GREGORIAN
METHOD:PUBLISH
X-WR-CALNAME:Straub Brewery
X-ORIGINAL-URL:https://straubbeer.com
X-WR-CALDESC:Events for Straub Brewery
REFRESH-INTERVAL;VALUE=DURATION:PT1H
X-Robots-Tag:noindex
X-PUBLISHED-TTL:PT1H
BEGIN:VTIMEZONE
TZID:America/New_York
BEGIN:DAYLIGHT
TZOFFSETFROM:-0500
TZOFFSETTO:-0400
TZNAME:EDT
DTSTART:20250309T070000
END:DAYLIGHT
BEGIN:STANDARD
TZOFFSETFROM:-0400
TZOFFSETTO:-0500
TZNAME:EST
DTSTART:20251102T060000
END:STANDARD
BEGIN:DAYLIGHT
TZOFFSETFROM:-0500
TZOFFSETTO:-0400
TZNAME:EDT
DTSTART:20260308T070000
END:DAYLIGHT
BEGIN:STANDARD
TZOFFSETFROM:-0400
TZOFFSETTO:-0500
TZNAME:EST
DTSTART:20261101T060000
END:STANDARD
BEGIN:DAYLIGHT
TZOFFSETFROM:-0500
TZOFFSETTO:-0400
TZNAME:EDT
DTSTART:20270314T070000
END:DAYLIGHT
BEGIN:STANDARD
TZOFFSETFROM:-0400
TZOFFSETTO:-0500
TZNAME:EST
DTSTART:20271107T060000
END:STANDARD
END:VTIMEZONE
BEGIN:VEVENT
DTSTART;TZID=America/New_York:20260326T180000
DTEND;TZID=America/New_York:20260326T200000
DTSTAMP:20260421T043624
CREATED:20260223T140133Z
LAST-MODIFIED:20260223T140133Z
UID:15801-1774548000-1774555200@straubbeer.com
SUMMARY:Trivia Night
DESCRIPTION:Join us for a fun night of trivia and enjoy some great food and tasty brews as well! Teams of 2 to 5 people.Please pre-register your team by texting Lexi at 814-594-2664. Prizes awarded for 1st\, 2nd\, and 3rd place teams!
URL:https://straubbeer.com/events/trivia-night-2/
LOCATION:Straub Brewery Visitor Center and Tap Room\, 444 Brusselles Street\, St. Marys\, PA\, 15857\, United States
END:VEVENT
END:VCALENDAR