BEGIN:VCALENDAR
VERSION:2.0
PRODID:-//Straub Brewery - ECPv6.15.17//NONSGML v1.0//EN
CALSCALE:GREGORIAN
METHOD:PUBLISH
X-WR-CALNAME:Straub Brewery
X-ORIGINAL-URL:https://straubbeer.com
X-WR-CALDESC:Events for Straub Brewery
REFRESH-INTERVAL;VALUE=DURATION:PT1H
X-Robots-Tag:noindex
X-PUBLISHED-TTL:PT1H
BEGIN:VTIMEZONE
TZID:America/New_York
BEGIN:DAYLIGHT
TZOFFSETFROM:-0500
TZOFFSETTO:-0400
TZNAME:EDT
DTSTART:20250309T070000
END:DAYLIGHT
BEGIN:STANDARD
TZOFFSETFROM:-0400
TZOFFSETTO:-0500
TZNAME:EST
DTSTART:20251102T060000
END:STANDARD
BEGIN:DAYLIGHT
TZOFFSETFROM:-0500
TZOFFSETTO:-0400
TZNAME:EDT
DTSTART:20260308T070000
END:DAYLIGHT
BEGIN:STANDARD
TZOFFSETFROM:-0400
TZOFFSETTO:-0500
TZNAME:EST
DTSTART:20261101T060000
END:STANDARD
BEGIN:DAYLIGHT
TZOFFSETFROM:-0500
TZOFFSETTO:-0400
TZNAME:EDT
DTSTART:20270314T070000
END:DAYLIGHT
BEGIN:STANDARD
TZOFFSETFROM:-0400
TZOFFSETTO:-0500
TZNAME:EST
DTSTART:20271107T060000
END:STANDARD
END:VTIMEZONE
BEGIN:VEVENT
DTSTART;VALUE=DATE:20260422
DTEND;VALUE=DATE:20260426
DTSTAMP:20260420T043333
CREATED:20260326T162723Z
LAST-MODIFIED:20260326T162758Z
UID:15894-1776816000-1777161599@straubbeer.com
SUMMARY:25th Annual Chainsaw Carvers Rendezvous
DESCRIPTION:Welcome back to Ridgway for the 2026 Chainsaw Carvers Rendezvous. Appalachian Arts Studio will be hosting carvers at The Ridgway Mills\, April 22-25 for live carving\, food\, entertainment\, and a small auction. Many carvers will bring finished pieces with them to sell directly. April is going to be perfect weather for the event and you don’t want to miss it. There will be a $5/person gate fee for adults. Kids (under 18) are free. You’ll get a wristband that is good all four days of the Rendezvous! \nRidgway Mills Campground\n260 West Main Street\nRidgway\, PA 15853
URL:https://straubbeer.com/events/25th-annual-chainsaw-carvers-rendezvous/
LOCATION:Ridgway Mills Campground\, 260 West Main Street\, Ridgway\, 15853\, United States
END:VEVENT
BEGIN:VEVENT
DTSTART;TZID=America/New_York:20260425T120000
DTEND;TZID=America/New_York:20260425T210000
DTSTAMP:20260420T043333
CREATED:20260326T165138Z
LAST-MODIFIED:20260326T165138Z
UID:15900-1777118400-1777150800@straubbeer.com
SUMMARY:50's Decade Party
DESCRIPTION:Step back in time and rock around the clock at Straub’s 50’s Decade Party! Join us on Saturday\, April 25\, 2026\, at the Straub Visitor Center & Tap Room for a full day of vintage vibes\, classic tunes\, and good times. \nKick things off from noon to 3 PM with live music from Christopher Dale & Matt Silva\, bringing you the sounds that defined a generation. Then\, get ready for an electrifying evening as Elvis impersonator Scott Allegretto takes the stage from 6 to 9 PM\, delivering all the hits and moves of the King himself. \nSurrounded by the spirit of the 1950s—think vinyl records\, rock ‘n’ roll\, and retro flair—this is the perfect event to grab a cold Straub beer\, hit the dance floor\, and relive the golden era of music. \nThrow on your best 50s attire and join us for a day packed with nostalgia\, live entertainment\, and unforgettable fun!
URL:https://straubbeer.com/events/50s-decade-party/
LOCATION:Straub Brewery Visitor Center and Tap Room\, 444 Brusselles Street\, St. Marys\, PA\, 15857\, United States
END:VEVENT
BEGIN:VEVENT
DTSTART;TZID=America/New_York:20260426T110000
DTEND;TZID=America/New_York:20260426T130000
DTSTAMP:20260420T043333
CREATED:20260326T163102Z
LAST-MODIFIED:20260326T163102Z
UID:15897-1777201200-1777208400@straubbeer.com
SUMMARY:Sunday Polka Party
DESCRIPTION:Break out your dancing shoes and join us for a lively Sunday Polka Party at the Straub Tap Room! \nFeaturing the one and only Bubba Brennen\, this high-energy afternoon is packed with upbeat rhythms\, classic polka favorites\, and plenty of chances to hit the dance floor. Whether you’re a seasoned polka pro or just in it for the fun\, Bubba brings the kind of infectious energy that keeps the party going all day long. \nPair the music with your favorite Straub brews\, gather your friends\, and make it a Sunday tradition filled with laughter\, dancing\, and great times at the Tap Room. Prost!
URL:https://straubbeer.com/events/sunday-polka-party/
LOCATION:PA
END:VEVENT
END:VCALENDAR